BEGIN:VCALENDAR
VERSION:2.0
PRODID:-//Musikverein &quot;Cäcilia&quot; Overhetfeld - ECPv6.8.3//NONSGML v1.0//EN
CALSCALE:GREGORIAN
METHOD:PUBLISH
X-WR-CALNAME:Musikverein &quot;Cäcilia&quot; Overhetfeld
X-ORIGINAL-URL:https://schwalmtalmusikanten.de
X-WR-CALDESC:Veranstaltungen für Musikverein &quot;Cäcilia&quot; Overhetfeld
REFRESH-INTERVAL;VALUE=DURATION:PT1H
X-Robots-Tag:noindex
X-PUBLISHED-TTL:PT1H
BEGIN:VTIMEZONE
TZID:Europe/Berlin
BEGIN:DAYLIGHT
TZOFFSETFROM:+0100
TZOFFSETTO:+0200
TZNAME:CEST
DTSTART:20240331T010000
END:DAYLIGHT
BEGIN:STANDARD
TZOFFSETFROM:+0200
TZOFFSETTO:+0100
TZNAME:CET
DTSTART:20241027T010000
END:STANDARD
END:VTIMEZONE
BEGIN:VEVENT
DTSTART;TZID=Europe/Berlin:20240414T100000
DTEND;TZID=Europe/Berlin:20240414T120000
DTSTAMP:20260423T121721
CREATED:20240205T112240Z
LAST-MODIFIED:20240205T112240Z
UID:145-1713088800-1713096000@schwalmtalmusikanten.de
SUMMARY:Erstkommunion Elmpt
DESCRIPTION:
URL:https://schwalmtalmusikanten.de/event/erstkommunion-elmpt/
LOCATION:Elmpt Kirche\, Niederkrüchten- Elmpt\, 41372\, Deutschland
END:VEVENT
END:VCALENDAR