BEGIN:VCALENDAR
VERSION:2.0
PRODID:-//Musikverein &quot;Cäcilia&quot; Overhetfeld - ECPv6.8.3//NONSGML v1.0//EN
CALSCALE:GREGORIAN
METHOD:PUBLISH
X-ORIGINAL-URL:https://schwalmtalmusikanten.de
X-WR-CALDESC:Veranstaltungen für Musikverein &quot;Cäcilia&quot; Overhetfeld
REFRESH-INTERVAL;VALUE=DURATION:PT1H
X-Robots-Tag:noindex
X-PUBLISHED-TTL:PT1H
BEGIN:VTIMEZONE
TZID:Europe/Berlin
BEGIN:DAYLIGHT
TZOFFSETFROM:+0100
TZOFFSETTO:+0200
TZNAME:CEST
DTSTART:20240331T010000
END:DAYLIGHT
BEGIN:STANDARD
TZOFFSETFROM:+0200
TZOFFSETTO:+0100
TZNAME:CET
DTSTART:20241027T010000
END:STANDARD
END:VTIMEZONE
BEGIN:VEVENT
DTSTART;VALUE=DATE:20240518
DTEND;VALUE=DATE:20240521
DTSTAMP:20260421T101459
CREATED:20240129T135621Z
LAST-MODIFIED:20240429T090509Z
UID:88-1715990400-1716249599@schwalmtalmusikanten.de
SUMMARY:Pfingstkirmes mit Bezirksschützenfest Overhetfeld
DESCRIPTION:
URL:https://schwalmtalmusikanten.de/event/pfingstkirmes-mit-bezirksschuetzenfest-overhetfeld/
LOCATION:Overhetfeld\, Weibersbrunner Platz\, Overhetfeld\, NRW\, 41372\, Deutschland
END:VEVENT
BEGIN:VEVENT
DTSTART;VALUE=DATE:20240526
DTEND;VALUE=DATE:20240527
DTSTAMP:20260421T101459
CREATED:20240129T135448Z
LAST-MODIFIED:20240129T135448Z
UID:85-1716681600-1716767999@schwalmtalmusikanten.de
SUMMARY:Schützenfest Broich-Peel
DESCRIPTION:
URL:https://schwalmtalmusikanten.de/event/schuetzenfest-broich-peel/
LOCATION:Mönchengladbach Broich-Peel
END:VEVENT
BEGIN:VEVENT
DTSTART;TZID=Europe/Berlin:20240530T100000
DTEND;TZID=Europe/Berlin:20240530T130000
DTSTAMP:20260421T101459
CREATED:20240205T112520Z
LAST-MODIFIED:20240205T112520Z
UID:151-1717063200-1717074000@schwalmtalmusikanten.de
SUMMARY:Fronleichnam Elmpt
DESCRIPTION:
URL:https://schwalmtalmusikanten.de/event/fronleichnam-elmpt/
END:VEVENT
END:VCALENDAR